BEGIN:VCALENDAR
VERSION:2.0
PRODID:icalendar-ruby
CALSCALE:GREGORIAN
METHOD:PUBLISH
BEGIN:VEVENT
DTSTAMP:20260426T043456Z
UID:5-1721045@friendshipaog.org
DTSTART:20260920T153000Z
DTEND:20260920T170000Z
CLASS:PUBLIC
CREATED:20260425T190653
DESCRIPTION:Worship Service\nOn the first Sunday of each month we have a fa
 mily worship service in which the children and youth are part of the entir
 e service (nursery and preschool class still meet). Services are geared to
  include elements that appeal to and speak to children\, youth\, and adult
 s. We do this because we believe parents are the best model for children t
 o learn from\, especially as it relates to worshipping and serving God.\n
  
LAST-MODIFIED:20260425T190653
LOCATION:
SUMMARY:Worship Service 
URL;VALUE=URI:https://friendshipaog.org/events/worship-service--5/2026-09-2
 0
ATTACH;FILENAME=image4.jpeg;FMTTYPE=image/jpeg:https://dq5pwpg1q8ru0.cloudf
 ront.net/2021/12/07/11/42/45/8e60cca9-3262-4414-8446-1770a95c75ed/image4.j
 peg
END:VEVENT
END:VCALENDAR
